BEGIN:VCALENDAR
VERSION:2.0
PRODID:-//Kahf Welfare Foundation - ECPv6.15.17//NONSGML v1.0//EN
CALSCALE:GREGORIAN
METHOD:PUBLISH
X-WR-CALNAME:Kahf Welfare Foundation
X-ORIGINAL-URL:https://kahf.org.pk
X-WR-CALDESC:Events for Kahf Welfare Foundation
REFRESH-INTERVAL;VALUE=DURATION:PT1H
X-Robots-Tag:noindex
X-PUBLISHED-TTL:PT1H
BEGIN:VTIMEZONE
TZID:UTC
BEGIN:STANDARD
TZOFFSETFROM:+0000
TZOFFSETTO:+0000
TZNAME:UTC
DTSTART:20250101T000000
END:STANDARD
END:VTIMEZONE
BEGIN:VTIMEZONE
TZID:Asia/Karachi
BEGIN:STANDARD
TZOFFSETFROM:+0500
TZOFFSETTO:+0500
TZNAME:PKT
DTSTART:20250101T000000
END:STANDARD
END:VTIMEZONE
BEGIN:VEVENT
DTSTART;TZID=UTC:20260227T090000
DTEND;TZID=UTC:20260227T130000
DTSTAMP:20260422T221852
CREATED:20260223T090030Z
LAST-MODIFIED:20260223T082727Z
UID:3171-1772182800-1772197200@kahf.org.pk
SUMMARY:💊 Free Medical Camp @ Tatlay Aali 27-Feb-2026
DESCRIPTION:Your health matters. Kahf Foundation is organizing a Free Blood Testing Camp on 27 February 2026 in Gujranwala to help those who cannot afford regular medical checkups. Tests include LFT\, RFT\, Hepatitis A & B\, and Blood Sugar\, all completely FREE of cost. Early diagnosis can save lives\, so don’t miss this opportunity.\n\n\n\nLet’s build a healthier and stronger community together.
URL:https://kahf.org.pk/event/%f0%9f%92%8a-free-medical-camp-tatlay-aali-27-feb-2026/
CATEGORIES:Events
ATTACH;FMTTYPE=image/jpeg:https://kahf.org.pk/wp-content/uploads/2026/02/641006791_923549153700153_3163217292691521321_n-e1771830701854.jpg
END:VEVENT
BEGIN:VEVENT
DTSTART;TZID=Asia/Karachi:20260216T100000
DTEND;TZID=Asia/Karachi:20260217T140000
DTSTAMP:20260422T221852
CREATED:20260216T082806Z
LAST-MODIFIED:20260223T065701Z
UID:3166-1771236000-1771336800@kahf.org.pk
SUMMARY:💊 Free Medical Camp @ Tatlay Aali 16-Feb-2026
DESCRIPTION:Kahf Welfare Foundation is organizing a 2-day Free Medical Camp in Tatlay Aali to provide quality healthcare services to the underprivileged and deserving communities. Qualified and experienced doctors will be available to offer free medical check-ups\, consultation\, and guidance. The purpose of this camp is to ensure access to timely and reliable healthcare for those who need it the most. \nPatients will be able to receive free check-ups and advice for common health issues such as fever\, flu\, cough\, sore throat\, body and joint pain\, back and muscle pain\, skin diseases\, and ear\, nose\, and throat infections. This is a valuable opportunity for the community to consult professional doctors and take preventive steps toward better health. \n📅 Dates: 16 & 17 February 2026⏰ Time: 10:00 AM to 2:00 PM📍 Location: Kahf Welfare Foundation Tatlay Aali\, Kamonki Road\, Street No. 1\, Mohalla Waqas Town \nWe encourage all community members to benefit from this initiative and share this information with family\, friends\, and those in need.
URL:https://kahf.org.pk/event/%f0%9f%92%8a-free-medical-camp-tatlay-aali-feb-2026/
CATEGORIES:Events
ATTACH;FMTTYPE=image/jpeg:https://kahf.org.pk/wp-content/uploads/2026/02/WhatsApp-Image-2026-02-15-at-9.33.31-PM-e1771230215570.jpeg
END:VEVENT
END:VCALENDAR