BEGIN:VCALENDAR
VERSION:2.0
PRODID:-//Kahf Welfare Foundation - ECPv6.15.17//NONSGML v1.0//EN
CALSCALE:GREGORIAN
METHOD:PUBLISH
X-ORIGINAL-URL:https://kahf.org.pk
X-WR-CALDESC:Events for Kahf Welfare Foundation
REFRESH-INTERVAL;VALUE=DURATION:PT1H
X-Robots-Tag:noindex
X-PUBLISHED-TTL:PT1H
BEGIN:VTIMEZONE
TZID:Asia/Karachi
BEGIN:STANDARD
TZOFFSETFROM:+0500
TZOFFSETTO:+0500
TZNAME:PKT
DTSTART:20250101T000000
END:STANDARD
END:VTIMEZONE
BEGIN:VEVENT
DTSTART;VALUE=DATE:20260219
DTEND;VALUE=DATE:20260220
DTSTAMP:20260422T223134
CREATED:20260201T173220Z
LAST-MODIFIED:20260209T121851Z
UID:1069-1771459200-1771545599@kahf.org.pk
SUMMARY:Food for Ramadan
DESCRIPTION:During the blessed month of Ramadan\, many families struggle to arrange even basic food for Sehri and Iftaar. Kahf Welfare Foundation is collecting funds to distribute Rashan Packs to poor and deserving families so they can observe Ramadan with ease\, dignity\, and peace of mind. \nYour support can ensure that no family sleeps hungry during this sacred month.
URL:https://kahf.org.pk/event/food-for-ramadan/
LOCATION:Kahf Foundation – Head Office\, Kamoke Road\, Street-1\, Waqas Town\, Tatlay Aali\,\, Gujranwala\, Punjab\, Pakistan
CATEGORIES:Events
ATTACH;FMTTYPE=image/webp:https://kahf.org.pk/wp-content/uploads/2026/01/Iftaar-Food-8.webp
END:VEVENT
END:VCALENDAR